BEGIN:VCALENDAR
VERSION:2.0
PRODID:-//WP EVENT Manager Ical//NONSGML Events //EN
CALSCALE:GREGORIAN

BEGIN:VEVENT

DTSTART:20241203T180000PMZ
DTEND:20241203T215900PMZ
LOCATION:Grand Fiesta Americana Hotel
SUMMARY:Welcome cocktail
DESCRIPTION:


END:VEVENT
END:VCALENDAR
    