BEGIN:VCALENDAR
VERSION:2.0
PRODID:-//WP EVENT Manager Ical//NONSGML Events //EN
CALSCALE:GREGORIAN

BEGIN:VEVENT

DTSTART:20241205T150000PMZ
DTEND:20241205T150500PMZ
LOCATION:Online
SUMMARY:Transition
DESCRIPTION:


END:VEVENT
END:VCALENDAR
    