BEGIN:VCALENDAR
VERSION:2.0
PRODID:-//WP EVENT Manager Ical//NONSGML Events //EN
CALSCALE:GREGORIAN

BEGIN:VEVENT

DTSTART:20241205T110000AMZ
DTEND:20241205T114500AMZ
LOCATION:Conjunto Santander de Artes Escénicas, Guadalajara
SUMMARY:How to promote the trinity of freedoms: Expression, Publishing, and Reading
DESCRIPTION:The book sector is united by a trinity of freedoms protecting writers, publishers and readers. This session will look at examples of successful national and international collaborations within the book sector and how those successful examples could be replicated elsewhere.


END:VEVENT
END:VCALENDAR
    