BEGIN:VCALENDAR
VERSION:2.0
PRODID:-//WP EVENT Manager Ical//NONSGML Events //EN
CALSCALE:GREGORIAN

BEGIN:VEVENT

DTSTART:20241205T121500PMZ
DTEND:20241205T131500PMZ
LOCATION:Online
SUMMARY:Comida (Lunch)
DESCRIPTION:


END:VEVENT
END:VCALENDAR
    