BEGIN:VCALENDAR
VERSION:2.0
PRODID:-//WP EVENT Manager Ical//NONSGML Events //EN
CALSCALE:GREGORIAN

BEGIN:VEVENT

DTSTART:20241204T101500AMZ
DTEND:20241204T103000AMZ
LOCATION:Online
SUMMARY:Coffee Break – Networking
DESCRIPTION:


END:VEVENT
END:VCALENDAR
    