BEGIN:VCALENDAR
VERSION:2.0
PRODID:-//WP EVENT Manager Ical//NONSGML Events //EN
CALSCALE:GREGORIAN

BEGIN:VEVENT

DTSTART:20241205T131500PMZ
DTEND:20241205T140000PMZ
LOCATION:Conjunto Santander de Artes Escénicas, Guadalajara
SUMMARY:Accessibility: How Digital Publishing Can Enhance the Reading Experience for All
DESCRIPTION:From the Marrakesh Treaty to the impending European Accessibility Act, the legal imperative for accessible books is growing. This session will look at how publishers can go beyond simple compliance and use accessibility-driven workflows as a way to make better books for all readers?


END:VEVENT
END:VCALENDAR
    